BEGIN:VCALENDAR
VERSION:2.0
PRODID:Events Booking
BEGIN:VEVENT
UID:69eb46b5b3e4a
SUMMARY:Skizzenworkshop für Jugendliche – Zeichnen leicht gemacht mit Ka
 ija (ab 12 Jahre | 8 Termine\, Teilnahme immer möglich)
DESCRIPTION:
 In diesem Skizzenkurs lernen Jugendliche die Grundlagen des 
 Zeichnens kennen und entwickeln Schritt für Schritt ihren eigenen Stil. I
 n entspannter Atmosphäre werden verschiedene Zeichenübungen bewältigt 
 – ganz ohne Leistungsdruck. Im Mittelpunkt stehen Ausprobieren\, Üben u
 nd Spaß am Zeichnen.
 Eine Anmeldung ist auch nach dem Kursbeginn weiter
 hin möglich!
 Inhalte: 
 
 Grundlagen des Zeichnens (Linie\, Form\, Pr
 oportion)
 Skizzieren von Gegenständen\, Figuren und einfachen Motiven

  Beobachtungszeichnen und freies Zeichnen
 Einführung in Schattierung un
 d Perspektive
 Förderung von Kreativität und Ausdruck
 Themenschwerpun
 kte: das Gesicht und dessen Einzelheiten\, der menschliche Körper\, Natur
  und Landschaft\, Stillleben\, Tiere u.v.m.
 
 Aktuell behandeln wir das
  Thema „das Gesicht“. Dabei gehen wir in den einzelnen Einheiten genau
 er auf die Schwerpunkte Schattierung\, Proportionen\, Augen\, Haarstruktur
 \, Nasen sowie Lippen ein und zeichnen als Endprojekt ein vollständiges P
 orträt.
 Kursdetails:
 
 Alter: ab 12 Jahren
 Gruppengröße: max. 10
  Kinder
 Dauer: 8 Wochen
 Termine: Samstag\,&nbsp\;09.05\, 16.05\, 23.05
 \, 13.06\, 20.06\, 27.06\, 04.07 und 18.07 (8x ohne Ferien)
 Kurslänge: 
 10:00 Uhr – 12:00 Uhr
 Leitung: Kaija Ströhlein
 
 Vorkenntnisse sin
 d nicht erforderlich – Neugier und Lust am Zeichnen reichen völlig aus.
  Die benötigten Zeichenmaterialien stellen wir zur Verfügung. Wer möcht
 e\, darf trotzdem gerne sein eigenes Skizzenbuch (falls vorhanden) oder be
 reits bevorzugte Graphitstifte usw. mitbringen.
LOCATION:Ludwig-Thoma-Straße 36 b\, 95447 Bayreuth
DTSTART:20260509T080000Z
DTSTAMP:20260422T025925Z
ORGANIZER;CN=FabLab-Bayreuth e. V.:MAILTO:info@fablab-bayreuth.de
GEO:49.929314;11.564392
X-APPLE-STRUCTURED-LOCATION;VALUE=URI;X-ADDRESS=Ludwig-Thoma-Straße 36 b\,
  95447 Bayreuth;X-APPLE-RADIUS=72;X-TITLE=FabLab-Bayreuth e. V.:49.929314;
 11.564392
END:VEVENT
END:VCALENDAR